View In:
ArcGIS JavaScript
ArcGIS Online Map Viewer
ArcGIS Earth
Service Description: Imagery/2004
Name: Imagery/2004
Description:
Single Fused Map Cache: true
Tile Info:
- Height: 512
- Width: 512
- DPI: 96
-
Levels of Detail: 20
-
Level ID: 0
[ Start Tile, End Tile ]
- Resolution: 29546.67005896385
- Scale: 3.403783198359032E7
-
Level ID: 1
[ Start Tile, End Tile ]
- Resolution: 14773.335029481925
- Scale: 1.701891599179516E7
-
Level ID: 2
[ Start Tile, End Tile ]
- Resolution: 7386.667514740962
- Scale: 8509457.99589758
-
Level ID: 3
[ Start Tile, End Tile ]
- Resolution: 3693.333757370481
- Scale: 4254728.99794879
-
Level ID: 4
[ Start Tile, End Tile ]
- Resolution: 1846.6668786852406
- Scale: 2127364.498974395
-
Level ID: 5
[ Start Tile, End Tile ]
- Resolution: 923.3334393426203
- Scale: 1063682.2494871975
-
Level ID: 6
[ Start Tile, End Tile ]
- Resolution: 461.66671967131015
- Scale: 531841.1247435987
-
Level ID: 7
[ Start Tile, End Tile ]
- Resolution: 230.83335983565507
- Scale: 265920.5623717994
-
Level ID: 8
[ Start Tile, End Tile ]
- Resolution: 115.41667991782754
- Scale: 132960.2811858997
-
Level ID: 9
[ Start Tile, End Tile ]
- Resolution: 57.70833995891377
- Scale: 66480.14059294984
-
Level ID: 10
[ Start Tile, End Tile ]
- Resolution: 28.854169979456884
- Scale: 33240.07029647492
-
Level ID: 11
[ Start Tile, End Tile ]
- Resolution: 14.427084989728442
- Scale: 16620.03514823746
-
Level ID: 12
[ Start Tile, End Tile ]
- Resolution: 7.213542494864221
- Scale: 8310.01757411873
-
Level ID: 13
[ Start Tile, End Tile ]
- Resolution: 3.6067712474321105
- Scale: 4155.008787059365
-
Level ID: 14
[ Start Tile, End Tile ]
- Resolution: 1.8033856237160553
- Scale: 2077.5043935296826
-
Level ID: 15
[ Start Tile, End Tile ]
- Resolution: 0.9016928118580276
- Scale: 1038.7521967648413
-
Level ID: 16
[ Start Tile, End Tile ]
- Resolution: 0.4508464059290138
- Scale: 519.3760983824207
-
Level ID: 17
[ Start Tile, End Tile ]
- Resolution: 0.2254232029645069
- Scale: 259.6880491912103
-
Level ID: 18
[ Start Tile, End Tile ]
- Resolution: 0.11271160148225345
- Scale: 129.84402459560516
-
Level ID: 19
[ Start Tile, End Tile ]
- Resolution: 0.05635580074112673
- Scale: 64.92201229780258
- Format: MIXED
- Compression Quality: 100.0
- LERC Error: NaN
- Origin: X: -1.2003891056151593E8
Y: 1.1315573797806966E8
- Spatial Reference: 103120
(6539)
LatestVCSWkid(0)
Storage Info:
- Storage Format: esriMapCacheStorageModeCompactV2
- Packet Size: 128
Extent:
XMin: 1122000.0000780523
YMin: 159999.99988089502
XMax: 1578000.0000780523
YMax: 421999.999880895
Spatial Reference: 103120
(6539)
LatestVCSWkid(0)
Initial Extent:
XMin: 1122000.0000780523
YMin: 159999.99988089502
XMax: 1578000.0000780523
YMax: 421999.999880895
Spatial Reference: 103120
(6539)
LatestVCSWkid(0)
Full Extent:
XMin: 1122000.0000780523
YMin: 159999.99988089502
XMax: 1578000.0000780523
YMax: 421999.999880895
Spatial Reference: 103120
(6539)
LatestVCSWkid(0)
Pixel Size X: 1.0
Pixel Size Y: 1.0
Band Count: 3
Pixel Type: U8
RasterFunction Infos: {"rasterFunctionInfos": [{
"name": "None",
"description": "",
"help": ""
}]}
Mensuration Capabilities: None
Inspection Capabilities:
Has Histograms: true
Has Colormap: false
Has Multi Dimensions : false
Rendering Rule:
Min Scale: 3.403783198359032E7
Max Scale: 0
Min LOD: 0
Max LOD: 17
Resampling: true
Copyright Text:
Service Data Type: esriImageServiceDataTypeProcessed
Min Values: 2, 13, 20
Max Values: 225, 220, 199
Mean Values: 108.91380159070494, 115.79306052699866, 98.63238303528148
Standard Deviation Values: 22.240864935990782, 17.29378701444333, 15.909277248811048
Object ID Field: OBJECTID
Fields:
-
OBJECTID
(
type: esriFieldTypeOID, alias: OBJECTID
)
-
Name
(
type: esriFieldTypeString, alias: Name, length: 200
)
-
MinPS
(
type: esriFieldTypeDouble, alias: MinPS
)
-
MaxPS
(
type: esriFieldTypeDouble, alias: MaxPS
)
-
LowPS
(
type: esriFieldTypeDouble, alias: LowPS
)
-
HighPS
(
type: esriFieldTypeDouble, alias: HighPS
)
-
Category
(
type: esriFieldTypeInteger, alias: Category
, Coded Values:
[0: Unknown]
, [1: Primary]
, [2: Overview]
, ...5 more...
)
-
Tag
(
type: esriFieldTypeString, alias: Tag, length: 100
)
-
GroupName
(
type: esriFieldTypeString, alias: GroupName, length: 100
)
-
ProductName
(
type: esriFieldTypeString, alias: ProductName, length: 100
)
-
CenterX
(
type: esriFieldTypeDouble, alias: CenterX
)
-
CenterY
(
type: esriFieldTypeDouble, alias: CenterY
)
-
ZOrder
(
type: esriFieldTypeInteger, alias: ZOrder
)
-
Shape
(
type: esriFieldTypeGeometry, alias: Shape
)
-
Shape.STArea()
(
type: esriFieldTypeDouble, alias: Shape.STArea()
)
-
Shape.STLength()
(
type: esriFieldTypeDouble, alias: Shape.STLength()
)
Default Mosaic Method: Northwest
Allowed Mosaic Methods: NorthWest,Center,LockRaster,ByAttribute,Nadir,Viewpoint,Seamline,None
SortField:
SortValue: null
Mosaic Operator: First
Default Compression Quality: 75
Default Resampling Method: Bilinear
Max Record Count: 1000
Max Image Height: 4100
Max Image Width: 15000
Max Download Image Count: 20
Max Mosaic Image Count: 42
Allow Raster Function: true
Allow Copy: true
Allow Analysis: true
Allow Compute TiePoints: false
Supports Statistics: true
Supports Advanced Queries: true
Use StandardizedQueries: true
Raster Type Infos:
Name: Raster Dataset
Description: Supports all ArcGIS Raster Datasets
Help:
Has Raster Attribute Table: false
Edit Fields Info: null
Ownership Based AccessControl For Rasters: null
Child Resources:
Info
Histograms
Statistics
Key Properties
Legend
Raster Function Infos
Supported Operations:
Export Image
Query
Identify
Compute Histograms
Compute Statistics Histograms
Get Samples
Compute Class Statistics
Query GPS Info
Find Images
Image to Map
Map to Image
Measure from Image
Image to Map Multiray
Query Boundary
Compute Pixel Location
Compute Angles
Validate
Project