{
 "currentVersion": 11.4,
 "serviceDescription": "Imagery/2013",
 "name": "Imagery/2013",
 "description": "",
 "extent": {
  "xmin": 1122000.0000780523,
  "ymin": 159999.99988089502,
  "xmax": 1578000.0000780523,
  "ymax": 421999.999880895,
  "spatialReference": {
   "wkid": 103120,
   "latestWkid": 6539
  }
 },
 "initialExtent": {
  "xmin": 1122000.0000780523,
  "ymin": 159999.99988089502,
  "xmax": 1578000.0000780523,
  "ymax": 421999.999880895,
  "spatialReference": {
   "wkid": 103120,
   "latestWkid": 6539
  }
 },
 "fullExtent": {
  "xmin": 1122000.0000780523,
  "ymin": 159999.99988089502,
  "xmax": 1578000.0000780523,
  "ymax": 421999.999880895,
  "spatialReference": {
   "wkid": 103120,
   "latestWkid": 6539
  }
 },
 "sortableFields": "MinPS,MaxPS,LowPS,HighPS,CenterX,CenterY,ZOrder,Shape.STArea(),Shape.STLength()",
 "bandCount": 4,
 "pixelType": "U8",
 "minValues": [
  0,
  0,
  0,
  0
 ],
 "maxValues": [
  255,
  255,
  255,
  255
 ],
 "meanValues": [
  104.16116950415856,
  109.32300492768276,
  96.7584672537995,
  101.63707774616448
 ],
 "stdvValues": [
  47.51268323601128,
  46.41137360793967,
  45.12808755873862,
  45.20340574827428
 ],
 "hasMultidimensions": false,
 "pixelSizeX": 0.5,
 "pixelSizeY": 0.5,
 "meanPixelSize": 0.15240030480060962,
 "datasetFormat": "AMD",
 "uncompressedSize": 1911552000000,
 "blockWidth": 2048,
 "blockHeight": 256,
 "compressionType": "None",
 "bandNames": [
  "Red",
  "Green",
  "Blue",
  "Infrared"
 ],
 "allowCopy": true,
 "allowAnalysis": true,
 "itemAccess": false,
 "inspectionCapabilities": "",
 "minPixelSize": 0,
 "maxPixelSize": 29546.67005896385,
 "copyrightText": "",
 "serviceDataType": "esriImageServiceDataTypeProcessed",
 "serviceSourceType": "esriImageServiceSourceTypeMosaicDataset",
 "objectIdField": "OBJECTID",
 "fields": [
  {
   "name": "OBJECTID",
   "type": "esriFieldTypeOID",
   "alias": "OBJECTID",
   "domain": null
  },
  {
   "name": "Name",
   "type": "esriFieldTypeString",
   "alias": "Name",
   "domain": null,
   "length": 200
  },
  {
   "name": "MinPS",
   "type": "esriFieldTypeDouble",
   "alias": "MinPS",
   "domain": null
  },
  {
   "name": "MaxPS",
   "type": "esriFieldTypeDouble",
   "alias": "MaxPS",
   "domain": null
  },
  {
   "name": "LowPS",
   "type": "esriFieldTypeDouble",
   "alias": "LowPS",
   "domain": null
  },
  {
   "name": "HighPS",
   "type": "esriFieldTypeDouble",
   "alias": "HighPS",
   "domain": null
  },
  {
   "name": "Category",
   "type": "esriFieldTypeInteger",
   "alias": "Category",
   "domain": {
    "type": "codedValue",
    "name": "MosaicCatalogItemCategoryDomain",
    "description": "Catalog item categories.",
    "codedValues": [
     {
      "name": "Unknown",
      "code": 0
     },
     {
      "name": "Primary",
      "code": 1
     },
     {
      "name": "Overview",
      "code": 2
     },
     {
      "name": "Unprocessed Overview",
      "code": 3
     },
     {
      "name": "Partial Overview",
      "code": 4
     },
     {
      "name": "Uploaded",
      "code": 253
     },
     {
      "name": "Incomplete",
      "code": 254
     },
     {
      "name": "Custom",
      "code": 255
     }
    ],
    "mergePolicy": "esriMPTDefaultValue",
    "splitPolicy": "esriSPTDefaultValue"
   }
  },
  {
   "name": "Tag",
   "type": "esriFieldTypeString",
   "alias": "Tag",
   "domain": null,
   "length": 100
  },
  {
   "name": "GroupName",
   "type": "esriFieldTypeString",
   "alias": "GroupName",
   "domain": null,
   "length": 100
  },
  {
   "name": "ProductName",
   "type": "esriFieldTypeString",
   "alias": "ProductName",
   "domain": null,
   "length": 100
  },
  {
   "name": "CenterX",
   "type": "esriFieldTypeDouble",
   "alias": "CenterX",
   "domain": null
  },
  {
   "name": "CenterY",
   "type": "esriFieldTypeDouble",
   "alias": "CenterY",
   "domain": null
  },
  {
   "name": "ZOrder",
   "type": "esriFieldTypeInteger",
   "alias": "ZOrder",
   "domain": null
  },
  {
   "name": "Shape",
   "type": "esriFieldTypeGeometry",
   "alias": "Shape",
   "domain": null
  },
  {
   "name": "Shape.STArea()",
   "type": "esriFieldTypeDouble",
   "alias": "Shape.STArea()",
   "domain": null
  },
  {
   "name": "Shape.STLength()",
   "type": "esriFieldTypeDouble",
   "alias": "Shape.STLength()",
   "domain": null
  }
 ],
 "capabilities": "Catalog,Image,Metadata",
 "defaultMosaicMethod": "Northwest",
 "allowedMosaicMethods": "NorthWest,Center,LockRaster,ByAttribute,Nadir,Viewpoint,Seamline,None",
 "sortField": "",
 "sortValue": null,
 "sortAscending": true,
 "mosaicOperator": "First",
 "maxDownloadSizeLimit": 2048,
 "defaultCompressionQuality": 75,
 "defaultResamplingMethod": "Bilinear",
 "maxImageHeight": 4100,
 "maxImageWidth": 15000,
 "maxRecordCount": 1000,
 "maxDownloadImageCount": 20,
 "maxMosaicImageCount": 20,
 "singleFusedMapCache": true,
 "tileInfo": {
  "rows": 512,
  "cols": 512,
  "dpi": 96,
  "format": "MIXED",
  "compressionQuality": 100,
  "origin": {
   "x": -1.2003891056151593E8,
   "y": 1.1315573797806966E8
  },
  "spatialReference": {
   "wkid": 103120,
   "latestWkid": 6539
  },
  "lods": [
   {
    "level": 0,
    "resolution": 29546.67005896385,
    "scale": 3.403783198359032E7
   },
   {
    "level": 1,
    "resolution": 14773.335029481925,
    "scale": 1.701891599179516E7
   },
   {
    "level": 2,
    "resolution": 7386.667514740962,
    "scale": 8509457.99589758
   },
   {
    "level": 3,
    "resolution": 3693.333757370481,
    "scale": 4254728.99794879
   },
   {
    "level": 4,
    "resolution": 1846.6668786852406,
    "scale": 2127364.498974395
   },
   {
    "level": 5,
    "resolution": 923.3334393426203,
    "scale": 1063682.2494871975
   },
   {
    "level": 6,
    "resolution": 461.66671967131015,
    "scale": 531841.1247435987
   },
   {
    "level": 7,
    "resolution": 230.83335983565507,
    "scale": 265920.5623717994
   },
   {
    "level": 8,
    "resolution": 115.41667991782754,
    "scale": 132960.2811858997
   },
   {
    "level": 9,
    "resolution": 57.70833995891377,
    "scale": 66480.14059294984
   },
   {
    "level": 10,
    "resolution": 28.854169979456884,
    "scale": 33240.07029647492
   },
   {
    "level": 11,
    "resolution": 14.427084989728442,
    "scale": 16620.03514823746
   },
   {
    "level": 12,
    "resolution": 7.213542494864221,
    "scale": 8310.01757411873
   },
   {
    "level": 13,
    "resolution": 3.6067712474321105,
    "scale": 4155.008787059365
   },
   {
    "level": 14,
    "resolution": 1.8033856237160553,
    "scale": 2077.5043935296826
   },
   {
    "level": 15,
    "resolution": 0.9016928118580276,
    "scale": 1038.7521967648413
   },
   {
    "level": 16,
    "resolution": 0.4508464059290138,
    "scale": 519.3760983824207
   },
   {
    "level": 17,
    "resolution": 0.2254232029645069,
    "scale": 259.6880491912103
   },
   {
    "level": 18,
    "resolution": 0.11271160148225345,
    "scale": 129.84402459560516
   },
   {
    "level": 19,
    "resolution": 0.05635580074112673,
    "scale": 64.92201229780258
   }
  ]
 },
 "storageInfo": {
  "storageFormat": "esriMapCacheStorageModeCompactV2",
  "packetSize": 128
 },
 "cacheType": "Map",
 "allowRasterFunction": true,
 "rasterFunctionInfos": [
  {
   "name": "None",
   "description": "",
   "help": ""
  }
 ],
 "rasterTypeInfos": [
  {
   "name": "Raster Dataset",
   "description": "Supports all ArcGIS Raster Datasets",
   "help": ""
  }
 ],
 "mensurationCapabilities": "None",
 "hasHistograms": true,
 "hasColormap": false,
 "hasRasterAttributeTable": false,
 "minScale": 3.403783198359032E7,
 "maxScale": 0,
 "minLOD": 0,
 "maxLOD": 17,
 "exportTilesAllowed": false,
 "supportsStatistics": true,
 "supportsAdvancedQueries": true,
 "editFieldsInfo": null,
 "ownershipBasedAccessControlForRasters": null,
 "allowComputeTiePoints": false,
 "useStandardizedQueries": true,
 "advancedQueryCapabilities": {
  "useStandardizedQueries": true,
  "supportsStatistics": true,
  "supportsOrderBy": true,
  "supportsDistinct": true,
  "supportsPagination": true
 },
 "spatialReference": {
  "wkid": 103120,
  "latestWkid": 6539
 },
 "resampling": true
}
